BEGIN:VCALENDAR
VERSION:2.0
PRODID:-//London LGBTQ Community Centre - ECPv6.15.20//NONSGML v1.0//EN
CALSCALE:GREGORIAN
METHOD:PUBLISH
X-WR-CALNAME:London LGBTQ Community Centre
X-ORIGINAL-URL:https://londonlgbtqcentre.org
X-WR-CALDESC:Events for London LGBTQ Community Centre
REFRESH-INTERVAL;VALUE=DURATION:PT1H
X-Robots-Tag:noindex
X-PUBLISHED-TTL:PT1H
BEGIN:VTIMEZONE
TZID:Europe/London
BEGIN:DAYLIGHT
TZOFFSETFROM:+0000
TZOFFSETTO:+0100
TZNAME:BST
DTSTART:20250330T010000
END:DAYLIGHT
BEGIN:STANDARD
TZOFFSETFROM:+0100
TZOFFSETTO:+0000
TZNAME:GMT
DTSTART:20251026T010000
END:STANDARD
BEGIN:DAYLIGHT
TZOFFSETFROM:+0000
TZOFFSETTO:+0100
TZNAME:BST
DTSTART:20260329T010000
END:DAYLIGHT
BEGIN:STANDARD
TZOFFSETFROM:+0100
TZOFFSETTO:+0000
TZNAME:GMT
DTSTART:20261025T010000
END:STANDARD
BEGIN:DAYLIGHT
TZOFFSETFROM:+0000
TZOFFSETTO:+0100
TZNAME:BST
DTSTART:20270328T010000
END:DAYLIGHT
BEGIN:STANDARD
TZOFFSETFROM:+0100
TZOFFSETTO:+0000
TZNAME:GMT
DTSTART:20271031T010000
END:STANDARD
END:VTIMEZONE
BEGIN:VEVENT
DTSTART;TZID=Europe/London:20260421T190000
DTEND;TZID=Europe/London:20260421T200000
DTSTAMP:20260421T033348
CREATED:20260107T101615Z
LAST-MODIFIED:20260318T122102Z
UID:10003163-1776798000-1776801600@londonlgbtqcentre.org
SUMMARY:Queer  Minyan
DESCRIPTION:Monthly Shacharit service for queer Jews and allies.\n\n\nHosted by Jewish Autonomous Queers\, Queer Minyan is a monthly service and a way to end your Tuesday with fellowship and blessings! \n\n7pm – Doors open. People can arrive and wrap tefillin (we have one set to lend\n7:15pm – The service starts\n7:45pm – We hope to reach kaddish around this time\n8pm – We must be out at this time\n\nWe ask that everyone follow our code of conduct. \nAccessibility at the London LGBTQ+ Community Centre \nThe Centre’s accessibility statement is here. \nCovid safety at the London LGBTQ+ Community Centre \nTo keep our community safe\, we ask that all visitors do not visit the Centre if they are feeling any Covid-19 including headache\, fever\, sore throat\, consistent cough or chills. \nYou can wear a mask if you feel more comfortable. We also have masks and hand sanitiser available at the Centre. \nFor current information on Covid please visit the NHS website. \nDonate to the London LGBTQ+ Community Centre \nWe rely on donations to ensure that the London LGBTQ+ Community Centre can keep its doors open for years to come. \nTo donate or become a Friend of the Centre\, visit our website.
URL:https://londonlgbtqcentre.org/event/queer-minyan-5/
LOCATION:London LGBTQ+ Community Centre\, 60-62 Hopton Street\, Thames Path\, Bankside\, London\, England\, SE1 9JH\, United Kingdom
ATTACH;FMTTYPE=image/jpeg:https://londonlgbtqcentre.org/wp-content/uploads/2026/01/03045bd6d6c361c62d84d78ea44b8ec0-5WEMal.tmp_.jpg
END:VEVENT
END:VCALENDAR