BEGIN:VCALENDAR
VERSION:2.0
PRODID:-//London LGBTQ Community Centre - ECPv6.15.20//NONSGML v1.0//EN
CALSCALE:GREGORIAN
METHOD:PUBLISH
X-WR-CALNAME:London LGBTQ Community Centre
X-ORIGINAL-URL:https://londonlgbtqcentre.org
X-WR-CALDESC:Events for London LGBTQ Community Centre
REFRESH-INTERVAL;VALUE=DURATION:PT1H
X-Robots-Tag:noindex
X-PUBLISHED-TTL:PT1H
BEGIN:VTIMEZONE
TZID:Europe/London
BEGIN:DAYLIGHT
TZOFFSETFROM:+0000
TZOFFSETTO:+0100
TZNAME:BST
DTSTART:20250330T010000
END:DAYLIGHT
BEGIN:STANDARD
TZOFFSETFROM:+0100
TZOFFSETTO:+0000
TZNAME:GMT
DTSTART:20251026T010000
END:STANDARD
BEGIN:DAYLIGHT
TZOFFSETFROM:+0000
TZOFFSETTO:+0100
TZNAME:BST
DTSTART:20260329T010000
END:DAYLIGHT
BEGIN:STANDARD
TZOFFSETFROM:+0100
TZOFFSETTO:+0000
TZNAME:GMT
DTSTART:20261025T010000
END:STANDARD
BEGIN:DAYLIGHT
TZOFFSETFROM:+0000
TZOFFSETTO:+0100
TZNAME:BST
DTSTART:20270328T010000
END:DAYLIGHT
BEGIN:STANDARD
TZOFFSETFROM:+0100
TZOFFSETTO:+0000
TZNAME:GMT
DTSTART:20271031T010000
END:STANDARD
END:VTIMEZONE
BEGIN:VEVENT
DTSTART;TZID=Europe/London:20260424T094500
DTEND;TZID=Europe/London:20260424T104500
DTSTAMP:20260424T013507
CREATED:20260102T112126Z
LAST-MODIFIED:20260423T194853Z
UID:10003063-1777023900-1777027500@londonlgbtqcentre.org
SUMMARY:Muay Thai for Self-Defence
DESCRIPTION:Weekly Muay Thai Self-Defence classes focused on building confidence\, communication\, and empowerment in a supportive\, judgement-free space.\n\n\nKarina’s Muay Thai classes focus on building confidence\, communication\, and empowerment in a supportive\, judgement-free space. Students are encouraged to train at their own pace while building physical strength\, fitness\, and practical skills. \nThrough interactive drills\, partner work\, and teamwork\, students develop coordination\, resilience\, and confidence—whether their goal is fitness\, self-defence\, or training to compete in the long term. \nThese sessions are funded by the London Marathon Foundation. \nAbout the facilitator \nBorn in Hong Kong\, Karina began her martial arts journey at 4 years old. With over 18 years of training and competition across multiple countries\, she brings a versatile background in Muay Thai\, Taekwondo\, K1\, and Brazilian Jiu-Jitsu. Her adaptable style blends technical skill\, fitness\, and fun. \nKarina’s classes are a safe\, welcoming space with no judgement – only encouragement. Every student is supported to train at their own pace\, with coaching tailored to personal goals\, whether that’s improving fitness\, building confidence\, learning self-defence\, or developing skills for competitions. \nAccessibility at the London LGBTQ+ Community Centre \nThe Centre’s accessibility statement is here. \nCovid safety at the London LGBTQ+ Community Centre \nTo keep our community safe\, we ask that all visitors do not visit the Centre if they are feeling any Covid-19 symptoms including a headache\, fever\, sore throat\, consistent cough or chills. \nYou can wear a mask if you feel more comfortable. We also have masks and hand sanitiser available at the Centre. \nFor current information on Covid please visit the NHS website. \nDonate to the London LGBTQ+ Community Centre \nWe rely on donations to ensure that the London LGBTQ+ Community Centre can keep its doors open for years to come. \nTo donate or become a Friend of the Centre\, visit our website.
URL:https://londonlgbtqcentre.org/event/muay-thai-for-self-defence-23/
LOCATION:London LGBTQ+ Community Centre\, 60-62 Hopton Street\, Thames Path\, Bankside\, London\, England\, SE1 9JH\, United Kingdom
ATTACH;FMTTYPE=image/jpeg:https://londonlgbtqcentre.org/wp-content/uploads/2026/04/85872ff47e11eb86d51f76ddeec35b0c-YRjLXS.tmp_.jpg
END:VEVENT
BEGIN:VEVENT
DTSTART;TZID=Europe/London:20260424T130000
DTEND;TZID=Europe/London:20260424T150000
DTSTAMP:20260424T013507
CREATED:20251224T110635Z
LAST-MODIFIED:20260423T194854Z
UID:10002865-1777035600-1777042800@londonlgbtqcentre.org
SUMMARY:50+ Friday Social
DESCRIPTION:Our weekly meetup for LGBTQ+ people over 50.\n\n\nFormerly organised by Opening Doors\, this is a weekly meetup for LGBTQ+ people over 50. \nAccessibility \nThe Centre’s accessibility statement is here. \nCovid  safety at the London LGBTQ+ Community Centre \nTo keep our community safe\, we ask that all visitors do not visit the Centre if they are feeling any Covid-19 and/or mpox symptoms including headache\, fever\, sore throat\, consistent cough or chills. \nYou can wear a mask if you feel more comfortable. We also have masks and hand sanitiser available at the Centre. \nFor current information on Covid please visit the NHS website. \nDonate to the Centre \nWe rely on donations to ensure that the London LGBTQ+ Community Centre can keep its doors open for years to come. \nTo donate or become a Friend of the Centre\, visit our website.
URL:https://londonlgbtqcentre.org/event/50-friday-social-82/
LOCATION:London LGBTQ+ Community Centre\, 60-62 Hopton Street\, Thames Path\, Bankside\, London\, England\, SE1 9JH\, United Kingdom
ATTACH;FMTTYPE=image/jpeg:https://londonlgbtqcentre.org/wp-content/uploads/2024/12/a493b03938de8368cd07a4d4d6d99ad5-3xLoer.tmp_.jpg
END:VEVENT
BEGIN:VEVENT
DTSTART;TZID=Europe/London:20260424T173000
DTEND;TZID=Europe/London:20260424T193000
DTSTAMP:20260424T013507
CREATED:20260217T110949Z
LAST-MODIFIED:20260423T194855Z
UID:10003259-1777051800-1777059000@londonlgbtqcentre.org
SUMMARY:Queer Dungeons and Dragons
DESCRIPTION:Play Dungeons and Dragons\, make friends\, slay dragons and have fun!\n\n\nA queer 5e Dungeons and Dragons event at the London LGBTQ+ Community Centre\, hosted by Margo (any) and their wife Hannah (she/her). \nWe will run two players’ tables of seven people max per table. People of all (or none) ttrpg experience are welcomed! \nThe two tables run simultaneously for 2 hours. We’ll be able to provide all the attendees with necessary characters’ sheets and dice. \nBringing your own pre-made characters is okay with us (no homebrew and/or min-maxing please!). We’ll give out a simple pre-made character for anyone uncertain who to play as. \nThe sessions are short self-contained adventures and do not require recurring attendance or lore knowledge. \nDnD is inherently queer. It’s\, after all\, how the facilitators met each other years ago and fell in love. Now they are hoping to build long lasting friendships with other queer nerdy people and create a community around table-top roleplaying games at the London LGBTQ+ Community Centre. \nAccessibility at the London LGBTQ+ Community Centre \nThe Centre’s accessibility statement is here. \nSessions are played while sitting down at the table with expectations to socialise\, follow the narrative. Active participation and role-play are encouraged\, but not necessary. \nWe will take one 10 min break in the middle of the session (1 hour in). Individual breaks during the game are accommodated via the narrative when needed. \nQuiet snacking during the game is okay. \nAll TW of the sessions will be announced before the start of the game. \nClear character sheets and DnD dice are provided. \nCovid safety at the London LGBTQ+ Community Centre \nTo keep our community safe\, we ask that all visitors do not visit the Centre if they are feeling unwell including a headache\, fever\, sore throat\, consistent cough or chills. \nYou can wear a mask if you feel more comfortable. We also have masks and hand sanitiser available at the Centre. \nFor current information on Covid-19 please visit the NHS website. \nDonate to the London LGBTQ+ Community Centre \nWe rely on donations to ensure that the London LGBTQ+ Community Centre can keep its doors open for years to come. \nTo donate or become a Friend of the Centre\, visit our website.
URL:https://londonlgbtqcentre.org/event/queer-dungeons-and-dragons-2/
LOCATION:London LGBTQ+ Community Centre\, 60-62 Hopton Street\, Thames Path\, Bankside\, London\, England\, SE1 9JH\, United Kingdom
ATTACH;FMTTYPE=image/jpeg:https://londonlgbtqcentre.org/wp-content/uploads/2026/02/b4c65824349bdaa358d54ba215104717-cq9s76.tmp_.jpg
END:VEVENT
END:VCALENDAR