BEGIN:VCALENDAR
VERSION:2.0
PRODID:-//London LGBTQ Community Centre - ECPv6.15.20//NONSGML v1.0//EN
CALSCALE:GREGORIAN
METHOD:PUBLISH
X-WR-CALNAME:London LGBTQ Community Centre
X-ORIGINAL-URL:https://londonlgbtqcentre.org
X-WR-CALDESC:Events for London LGBTQ Community Centre
REFRESH-INTERVAL;VALUE=DURATION:PT1H
X-Robots-Tag:noindex
X-PUBLISHED-TTL:PT1H
BEGIN:VTIMEZONE
TZID:Europe/London
BEGIN:DAYLIGHT
TZOFFSETFROM:+0000
TZOFFSETTO:+0100
TZNAME:BST
DTSTART:20250330T010000
END:DAYLIGHT
BEGIN:STANDARD
TZOFFSETFROM:+0100
TZOFFSETTO:+0000
TZNAME:GMT
DTSTART:20251026T010000
END:STANDARD
BEGIN:DAYLIGHT
TZOFFSETFROM:+0000
TZOFFSETTO:+0100
TZNAME:BST
DTSTART:20260329T010000
END:DAYLIGHT
BEGIN:STANDARD
TZOFFSETFROM:+0100
TZOFFSETTO:+0000
TZNAME:GMT
DTSTART:20261025T010000
END:STANDARD
BEGIN:DAYLIGHT
TZOFFSETFROM:+0000
TZOFFSETTO:+0100
TZNAME:BST
DTSTART:20270328T010000
END:DAYLIGHT
BEGIN:STANDARD
TZOFFSETFROM:+0100
TZOFFSETTO:+0000
TZNAME:GMT
DTSTART:20271031T010000
END:STANDARD
END:VTIMEZONE
BEGIN:VEVENT
DTSTART;TZID=Europe/London:20260425T110000
DTEND;TZID=Europe/London:20260425T120000
DTSTAMP:20260425T021449
CREATED:20260305T170757Z
LAST-MODIFIED:20260423T194855Z
UID:10003278-1777114800-1777118400@londonlgbtqcentre.org
SUMMARY:LGBTQ+ Morning Yoga
DESCRIPTION:An hour of yoga for LGBTQ+ people of all abilities\n\n\nJoin us for an hour of yoga at the London LGBTQ+ Community Centre. \nYoga is held on an ad-hoc basis on Fridays and Saturdays from 11am – 12pm. Please check Eventbrite for any changes and ensure you have registered before attending. Yoga mats are provided but please bring your own if you wish. \nSessions are charged on a pay-what-you-can basis. All payments go towards supporting the ongoing work of the London LGBTQ+ Community Centre. \n\nDiscover the meaning behind common yoga postures and their benefits\nBriefly explain foundational poses like downward-facing dog (Adho Mukha Svanasana)\, Warrior II (Virabhadrasana II) and lunges\nYoga philosophy – gain insights into ethical guidances and inner observances of yoga known as the Yamas and Niyamas\nExplore the concept of Chakras (energy centres in the body)\nQ&A: your opportunity to ask any questions you have about yoga\, its practices and philosophy!\n\nAbout the facilitators \nMorning yoga is run by a rotating group of LGBTQ+ volunteers\, all of whom are professionally qualified yoga instructors. \nAccessibility: \nThe Centre’s accessibility statement is here. \nCovid safety at the London LGBTQ+ Community Centre: \nTo keep our community safe\, we ask that all visitors do not visit the centre if they are feeling symptoms including headache\, fever\, sore throat\, consistent cough or chills. \nMasks and hand sanitiser are available for use free of charge. All yoga mats are cleaned between sessions. \nFor current information on Covid please visit the NHS website. \nDonate to the Centre \nWe rely on donations to ensure that the London LGBTQ+ Community Centre can keep its doors open for years to come. \nTo donate or become a Friend of the Centre\, visit our website.
URL:https://londonlgbtqcentre.org/event/lgbtq-morning-yoga-83/
LOCATION:London LGBTQ+ Community Centre\, 60-62 Hopton Street\, Thames Path\, Bankside\, London\, England\, SE1 9JH\, United Kingdom
ATTACH;FMTTYPE=image/jpeg:https://londonlgbtqcentre.org/wp-content/uploads/2024/09/61957bf31eb0eb45c61338503915a7c0-36acVU.tmp_.jpg
END:VEVENT
BEGIN:VEVENT
DTSTART;TZID=Europe/London:20260425T173000
DTEND;TZID=Europe/London:20260425T193000
DTSTAMP:20260425T021449
CREATED:20251226T133018Z
LAST-MODIFIED:20260423T194857Z
UID:10003025-1777138200-1777145400@londonlgbtqcentre.org
SUMMARY:Queer Open Mic
DESCRIPTION:For all LGBTQ+ performers!\n\n\nCome\, take the mic and talk/sing/dance/perform in whichever way you see fit. All performances are welcome. \nWe want to cultivate a welcoming energy where we all feel comfortable to stand in front of people and just go for it! \nIf you want to just sit and relax or don’t know for sure whether you are up for performing with an audience\, you’re also welcome to come and take a look at what’s on. Maybe you find the inspiration to take the mic next time. \nInstruments aren’t available\, but you’re welcome to bring your own. \nTime will be limited to five minutes per appearance. You can sign up more than once if there is enough space. \nWatch back previous performances on Queer Open Mic’s Instagram.  \nAccessibility \nThe Centre’s accessibility statement is here. \nCovid safety at the London LGBTQ+ Community Centre \nTo keep our community safe\, we ask that all visitors do not visit the Centre if they are feeling unwell including headache\, fever\, sore throat\, consistent cough and chills. \nYou can wear a mask if you feel more comfortable. We also have masks and hand sanitiser available at the Centre. \nFor current information on Covid-19 please visit the NHS website. \nDonate to the Centre \nWe rely on donations to ensure that the London LGBTQ+ Community Centre can keep its doors open for years to come. \nTo donate or become a Friend of the Centre\, visit our website.
URL:https://londonlgbtqcentre.org/event/queer-open-mic-20/
LOCATION:London LGBTQ+ Community Centre\, 60-62 Hopton Street\, Thames Path\, Bankside\, London\, England\, SE1 9JH\, United Kingdom
ATTACH;FMTTYPE=image/jpeg:https://londonlgbtqcentre.org/wp-content/uploads/2024/09/4547ca0b34992d95eed91d90031ff444-PEpGg0.tmp_.jpg
END:VEVENT
END:VCALENDAR