BEGIN:VCALENDAR
VERSION:2.0
PRODID:-//London LGBTQ Community Centre - ECPv6.15.20//NONSGML v1.0//EN
CALSCALE:GREGORIAN
METHOD:PUBLISH
X-WR-CALNAME:London LGBTQ Community Centre
X-ORIGINAL-URL:https://londonlgbtqcentre.org
X-WR-CALDESC:Events for London LGBTQ Community Centre
REFRESH-INTERVAL;VALUE=DURATION:PT1H
X-Robots-Tag:noindex
X-PUBLISHED-TTL:PT1H
BEGIN:VTIMEZONE
TZID:UTC
BEGIN:STANDARD
TZOFFSETFROM:+0000
TZOFFSETTO:+0000
TZNAME:UTC
DTSTART:20250101T000000
END:STANDARD
END:VTIMEZONE
BEGIN:VEVENT
DTSTART;TZID=UTC:20260314T130000
DTEND;TZID=UTC:20260314T160000
DTSTAMP:20260420T140601
CREATED:20260305T170203Z
LAST-MODIFIED:20260305T170203Z
UID:10003284-1773493200-1773504000@londonlgbtqcentre.org
SUMMARY:HIV Testing Drop-in
DESCRIPTION:A drop-in HIV testing service in collaboration with healthcare organisations at the London LGBTQ+ Community Centre. No booking is required – pop in during the opening times. \nThe drop-in takes place in the Centre’s Quiet Room. \nAccessibility at the London LGBTQ+ Community Centre \nThe Centre’s accessibility statement is here. \nCovid safety at the London LGBTQ+ Community Centre \nTo keep our community safe\, we ask that all visitors do not visit the Centre if they are feeling unwell including headache\, fever\, sore throat\, consistent cough and chills. \nYou can wear a mask if you feel more comfortable. We also have masks and hand sanitiser available at the Centre. \nFor current information on Covid-19 please visit the NHS website. \nDonate to the London LGBTQ+ Community Centre \nWe rely on donations to ensure that the London LGBTQ+ Community Centre can keep its doors open for years to come. \nTo donate or become a Friend of the Centre\, visit our website.
URL:https://londonlgbtqcentre.org/event/hiv-testing-drop-in/2026-03-14/
LOCATION:London LGBTQ+ Community Centre\, 60-62 Hopton Street\, Thames Path\, Bankside\, London\, England\, SE1 9JH\, United Kingdom
CATEGORIES:Drop-in,Health and wellbeing
END:VEVENT
BEGIN:VEVENT
DTSTART;TZID=UTC:20260314T133000
DTEND;TZID=UTC:20260314T163000
DTSTAMP:20260420T140601
CREATED:20251105T163555Z
LAST-MODIFIED:20260105T170815Z
UID:10003156-1773495000-1773505800@londonlgbtqcentre.org
SUMMARY:Young Southwark Sexual Health and LSL Sexual Wellbeing Drop-in
DESCRIPTION:Young Southwark Sexual Health (for anyone aged 14-25) and LSL Sexual Wellbeing (for anyone 18+) are hosting a joint drop-in at the London LGBTQ+ Community Centre. \nThe drop in will be a relaxed non-judgemental space to: \n\nFind out about our free and confidential services\nReceive support/advice on relationships\, sexual health and wellbeing\nAccess free sexual health resources inc. leaflets\, condoms and clitoris/sperm keyrings!\n\nIf\, for some reason\, we are unable to offer direct support to you\, we are partnered with many community organisations in the boroughs and will do our best to signpost you to services that are best suited to you. \nAccessibility at the London LGBTQ+ Community Centre \nThe Centre’s accessibility statement is here. \nCovid safety at the London LGBTQ+ Community Centre: \nTo keep our community safe\, we ask that all visitors do not visit the Centre if they are feeling any Covid-19 and/or mpox symptoms including headache\, fever\, sore throat\, consistent cough or chills. \nYou can wear a mask if you feel more comfortable. We also have masks and hand sanitiser available at the Centre. \nFor current information on Covid please visit the NHS website. \nDonate to the Centre \nWe rely on donations to ensure that the London LGBTQ+ Community Centre can keep its doors open for years to come. \nTo donate or become a Friend of the Centre\, visit our website. \n  \n 
URL:https://londonlgbtqcentre.org/event/young-southwark-sexual-health-and-lsl-sexual-wellbeing-drop-in/2026-03-14/
LOCATION:London LGBTQ+ Community Centre\, 60-62 Hopton Street\, Thames Path\, Bankside\, London\, England\, SE1 9JH\, United Kingdom
CATEGORIES:Drop-in,Health and wellbeing
END:VEVENT
BEGIN:VEVENT
DTSTART;TZID=UTC:20260322T130000
DTEND;TZID=UTC:20260322T180000
DTSTAMP:20260420T140601
CREATED:20260312T125833Z
LAST-MODIFIED:20260312T125833Z
UID:10003334-1774184400-1774202400@londonlgbtqcentre.org
SUMMARY:Community Stalls (at BFI Southbank for BFI Flare)
DESCRIPTION:Come along and find out more from a range of amazing LGBTQIA+ community groups\, businesses\, charities and non-profit organisations\, including LGBTQ+ mental health and wellness charity Queerwell\, London’s first dedicated LGBTQ+ cinema\, The Arzner\, the GMI Partnership\, who provide pan-London HIV and sexual health services for all\, and The Queer Filmmakers Network. \nThe London LGBTQ+ Community Centre will also have a stall – pop by and say hey! \nThis is a free drop-in event\, no booking required. \nEntry is on a first-come\, first-served basis – subject to capacity.
URL:https://londonlgbtqcentre.org/event/community-stalls-bfi-flare/
LOCATION:BFI Southbank
CATEGORIES:Drop-in
END:VEVENT
BEGIN:VEVENT
DTSTART;TZID=UTC:20260329T133000
DTEND;TZID=UTC:20260329T163000
DTSTAMP:20260420T140601
CREATED:20260312T111521Z
LAST-MODIFIED:20260312T111521Z
UID:10003330-1774791000-1774801800@londonlgbtqcentre.org
SUMMARY:Letter Writing to Prisoners for Palestine and Second-Hand Clothes Sale for Da'm Support
DESCRIPTION:Resources will be provided for letter writing to Prisoners for Palestine detained in Britain\, which includes the Brize Norton 5 and Sam Corner of the Filton 24. \nThis is a drop-in\, relaxed environment to write messages of solidarity and support to people who have taken direct action to disrupt Britain’s involvement in Israel’s war crimes against Palestinian people. \nAlongside this\, we will also have a second-hand clothes sale\, with money going to Da’m Support\, a network who support direct action takers. \nAbout the organiser \nAudrey (she/they) is a performer and facilitator with Moi Ko Theatre and an organiser in direct action and prison resistance spaces. They are an ex-political prisoner\, detained on remand in 2025 for taking action in solidarity with Palestine\, and can offer useful advice and resources for anyone with unfamiliar with writing to prisoners in the session. \nAccessibility at the London LGBTQ+ Community Centre \nThe Centre’s accessibility statement is here. \nCovid safety at the London LGBTQ+ Community Centre \nTo keep our community safe\, we ask that all visitors do not visit the centre if they are feeling any Covid-19 symptoms including a headache\, fever\, sore throat\, consistent cough and chills. \nYou can wear a mask if you feel more comfortable. We also have masks and hand sanitiser available at the Centre. \nFor current information on Covid please visit the NHS website. \nDonate to the London LGBTQ+ Community Centre \nWe rely on donations to ensure that the London LGBTQ+ Community Centre can keep its doors open for years to come. \nTo donate or become a Friend of the Centre\, visit our website.
URL:https://londonlgbtqcentre.org/event/letter-writing-to-prisoners-for-palestine-clothes-sale-for-dam-support/
LOCATION:London LGBTQ+ Community Centre\, 60-62 Hopton Street\, Thames Path\, Bankside\, London\, England\, SE1 9JH\, United Kingdom
CATEGORIES:Drop-in
END:VEVENT
BEGIN:VEVENT
DTSTART;TZID=UTC:20260410T130000
DTEND;TZID=UTC:20260410T150000
DTSTAMP:20260420T140601
CREATED:20250605T134342Z
LAST-MODIFIED:20260402T094846Z
UID:10003176-1775826000-1775833200@londonlgbtqcentre.org
SUMMARY:LGBTQ+ Health Outreach Drop-in
DESCRIPTION:A monthly drop-in LGBTQ+ health outreach session offering: \n\nMini health checks\nGender-affirming care advice including safe DIY\, sexual health and contraception advice\nAdvice on cancer checks including cervical\, breast and bowel screening and care navigation\nHealthy lifestyle advice\nSignposting to other services\nChat with a nurse!\n\nNo booking required – come in during the drop-in times listed. \nAbout the facilitator \nNurse Flora will be on hand with their team to offer all the above. Flora is a lead nurse at Bridge@Southwark\, a transgender primary care service. They’re an expert in LGBTQ+ health issues. \nAccessibility at the London LGBTQ+ Community Centre \nThe Centre’s accessibility statement is here. \nCovid safety at the London LGBTQ+ Community Centre \nTo keep our community safe\, we ask that all visitors do not visit the Centre if they are feeling unwell including headache\, fever\, sore throat\, consistent cough and chills. \nYou can wear a mask if you feel more comfortable. We also have masks and hand sanitiser available at the Centre. \nFor current information on Covid-19 please visit the NHS website. \nDonate to the London LGBTQ+ Community Centre \nWe rely on donations to ensure that the London LGBTQ+ Community Centre can keep its doors open for years to come. \nTo donate or become a Friend of the Centre\, visit our website.
URL:https://londonlgbtqcentre.org/event/lgbtq-health-outreach-drop-in/2026-04-10/
LOCATION:London LGBTQ+ Community Centre\, 60-62 Hopton Street\, Thames Path\, Bankside\, London\, England\, SE1 9JH\, United Kingdom
CATEGORIES:Drop-in,Health and wellbeing
END:VEVENT
BEGIN:VEVENT
DTSTART;TZID=UTC:20260410T173000
DTEND;TZID=UTC:20260410T200000
DTSTAMP:20260420T140601
CREATED:20251111T132439Z
LAST-MODIFIED:20260106T074330Z
UID:10003172-1775842200-1775851200@londonlgbtqcentre.org
SUMMARY:LGBTQ+ Wellbeing Drop-in: Sexual Health and Self-Care
DESCRIPTION:Join sexual health charity Naz for a relaxed and welcoming Wellbeing Drop-in focused on sexual health\, self-care\, and community connection. This is a free and confidential space for LGBTQ+ folks to access resources\, chat with friendly sexual health professionals\, ask questions\, or simply hang out in a supportive environment. \nWhether you’re looking to learn more about STI testing\, PrEP\, consent\, safer sex\, or pleasure\, or just want a quiet space to decompress with others who get it\, this drop-in is for you. \nNo appointments\, no judgment — just community\, care\, and conversation. \nAbout the facilitator \nNaz is a sexual health charity working to address sexual health inequalities in Black\, Brown and Global Majority and LGBTQ+ communities. We have over 30 years of experience working across London to provide culturally specific interventions to communities disproportionately impacted by poor sexual\, reproductive and HIV outcomes. \nAccessibility at the London LGBTQ+ Community Centre \nThe Centre’s accessibility statement is here. \nCovid safety at the London LGBTQ+ Community Centre: \nTo keep our community safe\, we ask that all visitors do not visit the Centre if they are feeling any Covid-19 and/or mpox symptoms including a headache\, fever\, sore throat\, consistent cough or chills. \nYou can wear a mask if you feel more comfortable. We also have masks and hand sanitiser available at the Centre. \nFor current information on Covid please visit the NHS website. \nDonate to the London LGBTQ+ Community Centre \nWe rely on donations to ensure that the London LGBTQ+ Community Centre can keep its doors open for years to come. \nTo donate or become a Friend of the Centre\, visit our website.
URL:https://londonlgbtqcentre.org/event/lgbtq-wellbeing-drop-in-sexual-health-and-self-care-2/2026-04-10/
LOCATION:London LGBTQ+ Community Centre\, 60-62 Hopton Street\, Thames Path\, Bankside\, London\, England\, SE1 9JH\, United Kingdom
CATEGORIES:Drop-in,Health and wellbeing
END:VEVENT
BEGIN:VEVENT
DTSTART;TZID=UTC:20260411T130000
DTEND;TZID=UTC:20260411T160000
DTSTAMP:20260420T140601
CREATED:20260305T170203Z
LAST-MODIFIED:20260305T170203Z
UID:10003285-1775912400-1775923200@londonlgbtqcentre.org
SUMMARY:HIV Testing Drop-in
DESCRIPTION:A drop-in HIV testing service in collaboration with healthcare organisations at the London LGBTQ+ Community Centre. No booking is required – pop in during the opening times. \nThe drop-in takes place in the Centre’s Quiet Room. \nAccessibility at the London LGBTQ+ Community Centre \nThe Centre’s accessibility statement is here. \nCovid safety at the London LGBTQ+ Community Centre \nTo keep our community safe\, we ask that all visitors do not visit the Centre if they are feeling unwell including headache\, fever\, sore throat\, consistent cough and chills. \nYou can wear a mask if you feel more comfortable. We also have masks and hand sanitiser available at the Centre. \nFor current information on Covid-19 please visit the NHS website. \nDonate to the London LGBTQ+ Community Centre \nWe rely on donations to ensure that the London LGBTQ+ Community Centre can keep its doors open for years to come. \nTo donate or become a Friend of the Centre\, visit our website.
URL:https://londonlgbtqcentre.org/event/hiv-testing-drop-in/2026-04-11/
LOCATION:London LGBTQ+ Community Centre\, 60-62 Hopton Street\, Thames Path\, Bankside\, London\, England\, SE1 9JH\, United Kingdom
CATEGORIES:Drop-in,Health and wellbeing
END:VEVENT
BEGIN:VEVENT
DTSTART;TZID=UTC:20260411T133000
DTEND;TZID=UTC:20260411T163000
DTSTAMP:20260420T140601
CREATED:20251105T163555Z
LAST-MODIFIED:20260105T170815Z
UID:10003157-1775914200-1775925000@londonlgbtqcentre.org
SUMMARY:Young Southwark Sexual Health and LSL Sexual Wellbeing Drop-in
DESCRIPTION:Young Southwark Sexual Health (for anyone aged 14-25) and LSL Sexual Wellbeing (for anyone 18+) are hosting a joint drop-in at the London LGBTQ+ Community Centre. \nThe drop in will be a relaxed non-judgemental space to: \n\nFind out about our free and confidential services\nReceive support/advice on relationships\, sexual health and wellbeing\nAccess free sexual health resources inc. leaflets\, condoms and clitoris/sperm keyrings!\n\nIf\, for some reason\, we are unable to offer direct support to you\, we are partnered with many community organisations in the boroughs and will do our best to signpost you to services that are best suited to you. \nAccessibility at the London LGBTQ+ Community Centre \nThe Centre’s accessibility statement is here. \nCovid safety at the London LGBTQ+ Community Centre: \nTo keep our community safe\, we ask that all visitors do not visit the Centre if they are feeling any Covid-19 and/or mpox symptoms including headache\, fever\, sore throat\, consistent cough or chills. \nYou can wear a mask if you feel more comfortable. We also have masks and hand sanitiser available at the Centre. \nFor current information on Covid please visit the NHS website. \nDonate to the Centre \nWe rely on donations to ensure that the London LGBTQ+ Community Centre can keep its doors open for years to come. \nTo donate or become a Friend of the Centre\, visit our website. \n  \n 
URL:https://londonlgbtqcentre.org/event/young-southwark-sexual-health-and-lsl-sexual-wellbeing-drop-in/2026-04-11/
LOCATION:London LGBTQ+ Community Centre\, 60-62 Hopton Street\, Thames Path\, Bankside\, London\, England\, SE1 9JH\, United Kingdom
CATEGORIES:Drop-in,Health and wellbeing
END:VEVENT
BEGIN:VEVENT
DTSTART;TZID=UTC:20260509T130000
DTEND;TZID=UTC:20260509T160000
DTSTAMP:20260420T140601
CREATED:20260305T170203Z
LAST-MODIFIED:20260305T170203Z
UID:10003286-1778331600-1778342400@londonlgbtqcentre.org
SUMMARY:HIV Testing Drop-in
DESCRIPTION:A drop-in HIV testing service in collaboration with healthcare organisations at the London LGBTQ+ Community Centre. No booking is required – pop in during the opening times. \nThe drop-in takes place in the Centre’s Quiet Room. \nAccessibility at the London LGBTQ+ Community Centre \nThe Centre’s accessibility statement is here. \nCovid safety at the London LGBTQ+ Community Centre \nTo keep our community safe\, we ask that all visitors do not visit the Centre if they are feeling unwell including headache\, fever\, sore throat\, consistent cough and chills. \nYou can wear a mask if you feel more comfortable. We also have masks and hand sanitiser available at the Centre. \nFor current information on Covid-19 please visit the NHS website. \nDonate to the London LGBTQ+ Community Centre \nWe rely on donations to ensure that the London LGBTQ+ Community Centre can keep its doors open for years to come. \nTo donate or become a Friend of the Centre\, visit our website.
URL:https://londonlgbtqcentre.org/event/hiv-testing-drop-in/2026-05-09/
LOCATION:London LGBTQ+ Community Centre\, 60-62 Hopton Street\, Thames Path\, Bankside\, London\, England\, SE1 9JH\, United Kingdom
CATEGORIES:Drop-in,Health and wellbeing
END:VEVENT
BEGIN:VEVENT
DTSTART;TZID=UTC:20260613T130000
DTEND;TZID=UTC:20260613T160000
DTSTAMP:20260420T140601
CREATED:20260305T170203Z
LAST-MODIFIED:20260305T170203Z
UID:10003287-1781355600-1781366400@londonlgbtqcentre.org
SUMMARY:HIV Testing Drop-in
DESCRIPTION:A drop-in HIV testing service in collaboration with healthcare organisations at the London LGBTQ+ Community Centre. No booking is required – pop in during the opening times. \nThe drop-in takes place in the Centre’s Quiet Room. \nAccessibility at the London LGBTQ+ Community Centre \nThe Centre’s accessibility statement is here. \nCovid safety at the London LGBTQ+ Community Centre \nTo keep our community safe\, we ask that all visitors do not visit the Centre if they are feeling unwell including headache\, fever\, sore throat\, consistent cough and chills. \nYou can wear a mask if you feel more comfortable. We also have masks and hand sanitiser available at the Centre. \nFor current information on Covid-19 please visit the NHS website. \nDonate to the London LGBTQ+ Community Centre \nWe rely on donations to ensure that the London LGBTQ+ Community Centre can keep its doors open for years to come. \nTo donate or become a Friend of the Centre\, visit our website.
URL:https://londonlgbtqcentre.org/event/hiv-testing-drop-in/2026-06-13/
LOCATION:London LGBTQ+ Community Centre\, 60-62 Hopton Street\, Thames Path\, Bankside\, London\, England\, SE1 9JH\, United Kingdom
CATEGORIES:Drop-in,Health and wellbeing
END:VEVENT
BEGIN:VEVENT
DTSTART;TZID=UTC:20260711T130000
DTEND;TZID=UTC:20260711T160000
DTSTAMP:20260420T140601
CREATED:20260305T170203Z
LAST-MODIFIED:20260305T170203Z
UID:10003288-1783774800-1783785600@londonlgbtqcentre.org
SUMMARY:HIV Testing Drop-in
DESCRIPTION:A drop-in HIV testing service in collaboration with healthcare organisations at the London LGBTQ+ Community Centre. No booking is required – pop in during the opening times. \nThe drop-in takes place in the Centre’s Quiet Room. \nAccessibility at the London LGBTQ+ Community Centre \nThe Centre’s accessibility statement is here. \nCovid safety at the London LGBTQ+ Community Centre \nTo keep our community safe\, we ask that all visitors do not visit the Centre if they are feeling unwell including headache\, fever\, sore throat\, consistent cough and chills. \nYou can wear a mask if you feel more comfortable. We also have masks and hand sanitiser available at the Centre. \nFor current information on Covid-19 please visit the NHS website. \nDonate to the London LGBTQ+ Community Centre \nWe rely on donations to ensure that the London LGBTQ+ Community Centre can keep its doors open for years to come. \nTo donate or become a Friend of the Centre\, visit our website.
URL:https://londonlgbtqcentre.org/event/hiv-testing-drop-in/2026-07-11/
LOCATION:London LGBTQ+ Community Centre\, 60-62 Hopton Street\, Thames Path\, Bankside\, London\, England\, SE1 9JH\, United Kingdom
CATEGORIES:Drop-in,Health and wellbeing
END:VEVENT
BEGIN:VEVENT
DTSTART;TZID=UTC:20260808T130000
DTEND;TZID=UTC:20260808T160000
DTSTAMP:20260420T140601
CREATED:20260305T170203Z
LAST-MODIFIED:20260305T170203Z
UID:10003289-1786194000-1786204800@londonlgbtqcentre.org
SUMMARY:HIV Testing Drop-in
DESCRIPTION:A drop-in HIV testing service in collaboration with healthcare organisations at the London LGBTQ+ Community Centre. No booking is required – pop in during the opening times. \nThe drop-in takes place in the Centre’s Quiet Room. \nAccessibility at the London LGBTQ+ Community Centre \nThe Centre’s accessibility statement is here. \nCovid safety at the London LGBTQ+ Community Centre \nTo keep our community safe\, we ask that all visitors do not visit the Centre if they are feeling unwell including headache\, fever\, sore throat\, consistent cough and chills. \nYou can wear a mask if you feel more comfortable. We also have masks and hand sanitiser available at the Centre. \nFor current information on Covid-19 please visit the NHS website. \nDonate to the London LGBTQ+ Community Centre \nWe rely on donations to ensure that the London LGBTQ+ Community Centre can keep its doors open for years to come. \nTo donate or become a Friend of the Centre\, visit our website.
URL:https://londonlgbtqcentre.org/event/hiv-testing-drop-in/2026-08-08/
LOCATION:London LGBTQ+ Community Centre\, 60-62 Hopton Street\, Thames Path\, Bankside\, London\, England\, SE1 9JH\, United Kingdom
CATEGORIES:Drop-in,Health and wellbeing
END:VEVENT
BEGIN:VEVENT
DTSTART;TZID=UTC:20260912T130000
DTEND;TZID=UTC:20260912T160000
DTSTAMP:20260420T140601
CREATED:20260305T170203Z
LAST-MODIFIED:20260305T170203Z
UID:10003290-1789218000-1789228800@londonlgbtqcentre.org
SUMMARY:HIV Testing Drop-in
DESCRIPTION:A drop-in HIV testing service in collaboration with healthcare organisations at the London LGBTQ+ Community Centre. No booking is required – pop in during the opening times. \nThe drop-in takes place in the Centre’s Quiet Room. \nAccessibility at the London LGBTQ+ Community Centre \nThe Centre’s accessibility statement is here. \nCovid safety at the London LGBTQ+ Community Centre \nTo keep our community safe\, we ask that all visitors do not visit the Centre if they are feeling unwell including headache\, fever\, sore throat\, consistent cough and chills. \nYou can wear a mask if you feel more comfortable. We also have masks and hand sanitiser available at the Centre. \nFor current information on Covid-19 please visit the NHS website. \nDonate to the London LGBTQ+ Community Centre \nWe rely on donations to ensure that the London LGBTQ+ Community Centre can keep its doors open for years to come. \nTo donate or become a Friend of the Centre\, visit our website.
URL:https://londonlgbtqcentre.org/event/hiv-testing-drop-in/2026-09-12/
LOCATION:London LGBTQ+ Community Centre\, 60-62 Hopton Street\, Thames Path\, Bankside\, London\, England\, SE1 9JH\, United Kingdom
CATEGORIES:Drop-in,Health and wellbeing
END:VEVENT
BEGIN:VEVENT
DTSTART;TZID=UTC:20261010T130000
DTEND;TZID=UTC:20261010T160000
DTSTAMP:20260420T140601
CREATED:20260305T170203Z
LAST-MODIFIED:20260305T170203Z
UID:10003291-1791637200-1791648000@londonlgbtqcentre.org
SUMMARY:HIV Testing Drop-in
DESCRIPTION:A drop-in HIV testing service in collaboration with healthcare organisations at the London LGBTQ+ Community Centre. No booking is required – pop in during the opening times. \nThe drop-in takes place in the Centre’s Quiet Room. \nAccessibility at the London LGBTQ+ Community Centre \nThe Centre’s accessibility statement is here. \nCovid safety at the London LGBTQ+ Community Centre \nTo keep our community safe\, we ask that all visitors do not visit the Centre if they are feeling unwell including headache\, fever\, sore throat\, consistent cough and chills. \nYou can wear a mask if you feel more comfortable. We also have masks and hand sanitiser available at the Centre. \nFor current information on Covid-19 please visit the NHS website. \nDonate to the London LGBTQ+ Community Centre \nWe rely on donations to ensure that the London LGBTQ+ Community Centre can keep its doors open for years to come. \nTo donate or become a Friend of the Centre\, visit our website.
URL:https://londonlgbtqcentre.org/event/hiv-testing-drop-in/2026-10-10/
LOCATION:London LGBTQ+ Community Centre\, 60-62 Hopton Street\, Thames Path\, Bankside\, London\, England\, SE1 9JH\, United Kingdom
CATEGORIES:Drop-in,Health and wellbeing
END:VEVENT
BEGIN:VEVENT
DTSTART;TZID=UTC:20261114T130000
DTEND;TZID=UTC:20261114T160000
DTSTAMP:20260420T140601
CREATED:20260305T170203Z
LAST-MODIFIED:20260305T170203Z
UID:10003292-1794661200-1794672000@londonlgbtqcentre.org
SUMMARY:HIV Testing Drop-in
DESCRIPTION:A drop-in HIV testing service in collaboration with healthcare organisations at the London LGBTQ+ Community Centre. No booking is required – pop in during the opening times. \nThe drop-in takes place in the Centre’s Quiet Room. \nAccessibility at the London LGBTQ+ Community Centre \nThe Centre’s accessibility statement is here. \nCovid safety at the London LGBTQ+ Community Centre \nTo keep our community safe\, we ask that all visitors do not visit the Centre if they are feeling unwell including headache\, fever\, sore throat\, consistent cough and chills. \nYou can wear a mask if you feel more comfortable. We also have masks and hand sanitiser available at the Centre. \nFor current information on Covid-19 please visit the NHS website. \nDonate to the London LGBTQ+ Community Centre \nWe rely on donations to ensure that the London LGBTQ+ Community Centre can keep its doors open for years to come. \nTo donate or become a Friend of the Centre\, visit our website.
URL:https://londonlgbtqcentre.org/event/hiv-testing-drop-in/2026-11-14/
LOCATION:London LGBTQ+ Community Centre\, 60-62 Hopton Street\, Thames Path\, Bankside\, London\, England\, SE1 9JH\, United Kingdom
CATEGORIES:Drop-in,Health and wellbeing
END:VEVENT
BEGIN:VEVENT
DTSTART;TZID=UTC:20261212T130000
DTEND;TZID=UTC:20261212T160000
DTSTAMP:20260420T140601
CREATED:20260305T170203Z
LAST-MODIFIED:20260305T170203Z
UID:10003293-1797080400-1797091200@londonlgbtqcentre.org
SUMMARY:HIV Testing Drop-in
DESCRIPTION:A drop-in HIV testing service in collaboration with healthcare organisations at the London LGBTQ+ Community Centre. No booking is required – pop in during the opening times. \nThe drop-in takes place in the Centre’s Quiet Room. \nAccessibility at the London LGBTQ+ Community Centre \nThe Centre’s accessibility statement is here. \nCovid safety at the London LGBTQ+ Community Centre \nTo keep our community safe\, we ask that all visitors do not visit the Centre if they are feeling unwell including headache\, fever\, sore throat\, consistent cough and chills. \nYou can wear a mask if you feel more comfortable. We also have masks and hand sanitiser available at the Centre. \nFor current information on Covid-19 please visit the NHS website. \nDonate to the London LGBTQ+ Community Centre \nWe rely on donations to ensure that the London LGBTQ+ Community Centre can keep its doors open for years to come. \nTo donate or become a Friend of the Centre\, visit our website.
URL:https://londonlgbtqcentre.org/event/hiv-testing-drop-in/2026-12-12/
LOCATION:London LGBTQ+ Community Centre\, 60-62 Hopton Street\, Thames Path\, Bankside\, London\, England\, SE1 9JH\, United Kingdom
CATEGORIES:Drop-in,Health and wellbeing
END:VEVENT
END:VCALENDAR