BEGIN:VCALENDAR
VERSION:2.0
PRODID:-//London LGBTQ Community Centre - ECPv6.15.20//NONSGML v1.0//EN
CALSCALE:GREGORIAN
METHOD:PUBLISH
X-WR-CALNAME:London LGBTQ Community Centre
X-ORIGINAL-URL:https://londonlgbtqcentre.org
X-WR-CALDESC:Events for London LGBTQ Community Centre
REFRESH-INTERVAL;VALUE=DURATION:PT1H
X-Robots-Tag:noindex
X-PUBLISHED-TTL:PT1H
BEGIN:VTIMEZONE
TZID:UTC
BEGIN:STANDARD
TZOFFSETFROM:+0000
TZOFFSETTO:+0000
TZNAME:UTC
DTSTART:20240101T000000
END:STANDARD
END:VTIMEZONE
BEGIN:VEVENT
DTSTART;TZID=UTC:20251115T150000
DTEND;TZID=UTC:20251115T180000
DTSTAMP:20260423T172250
CREATED:20251113T155754Z
LAST-MODIFIED:20251113T155754Z
UID:10002654-1763218800-1763229600@londonlgbtqcentre.org
SUMMARY:ParaPride Social: Disability History Month
DESCRIPTION:Join ParaPride at the London LGBTQ+ Community Centre for an afternoon of celebration and empowerment!\n\nThis event is all about honouring Disability History Month and our community in style. Connect with fellow members from the LGBTQ+ and Disability communities in a welcoming\, inclusive and safe space.\n\n\nWe are proud to partner with the LGBTQ+ Community Centre who recently refurbished their toilet facilities to a Changing Places Toilet. \nExpect engaging discussions and plenty of opportunities to meet new people. Let’s come together to celebrate our unique identities and shared experiences. See you there! \n\nAbout the facilitator \n\nParaPride is an empowerment charity that advocates for the visibility\, education and awareness of LGBTQ+ disabled people \nAccessibility at the London LGBTQ+ Community Centre \nThe Centre’s accessibility statement is here. \nCovid safety at the London LGBTQ+ Community Centre \nTo keep our community safe\, we ask that all visitors do not visit the Centre if they are feeling any Covid-19 and/or mpox symptoms including headache\, fever\, sore throat\, consistent cough or chills. \nYou can wear a mask if you feel more comfortable. We also have masks and hand sanitiser available at the Centre. \nFor current information on Covid please visit the NHS website. \nDonate to the Centre \nWe rely on donations to ensure that the London LGBTQ+ Community Centre can keep its doors open for years to come. \nTo donate or become a Friend of the Centre\, visit our website.
URL:https://londonlgbtqcentre.org/event/parapride-social-disability-history-month/
LOCATION:London LGBTQ+ Community Centre\, 60-62 Hopton Street\, Thames Path\, Bankside\, London\, England\, SE1 9JH\, United Kingdom
CATEGORIES:Meetups
END:VEVENT
END:VCALENDAR